BEGIN:VCALENDAR
VERSION:2.0
PRODID:-//https://calenda-formation.labocleo.org
X-WR-CALNAME:Calenda
X-WR-TIMEZONE:Europe/Paris
CALSCALE:GREGORIAN
X-WR-CALDESC:Le calendrier des lettres et sciences humaines et sociales
METHOD:PUBLISH
BEGIN:VEVENT
DTSTART;VALUE=DATE:20110530
DTEND;VALUE=DATE:20110531
UID:203842-20110530@calenda.revues.org
SUMMARY:Une histoire au présent : les historiens et Michel Foucault aujourd'hui
URL:https://calenda-formation.labocleo.org/203842
DESCRIPTION:Cette rencontre\, qui souhaite approfondir le sillon de la journée d’études organisée en mars 2010 à l’EHESS\, ne se donne pas pour objectif d’évaluer la qualité historiographique des écrits de Michel Foucault mais de mettre en lumière l’usage que les … @plus_info https://calenda-formation.labocleo.org/203842
LOCATION:Aix-en-Provence
END:VEVENT
BEGIN:VEVENT
DTSTART;VALUE=DATE:20110531
DTEND;VALUE=DATE:20110601
UID:203842-20110531@calenda.revues.org
SUMMARY:Une histoire au présent : les historiens et Michel Foucault aujourd'hui
URL:https://calenda-formation.labocleo.org/203842
DESCRIPTION:Cette rencontre\, qui souhaite approfondir le sillon de la journée d’études organisée en mars 2010 à l’EHESS\, ne se donne pas pour objectif d’évaluer la qualité historiographique des écrits de Michel Foucault mais de mettre en lumière l’usage que les … @plus_info https://calenda-formation.labocleo.org/203842
LOCATION:Aix-en-Provence
END:VEVENT
BEGIN:VEVENT
DTSTART;VALUE=DATE:20110601
DTEND;VALUE=DATE:20110602
UID:203842-20110601@calenda.revues.org
SUMMARY:Une histoire au présent : les historiens et Michel Foucault aujourd'hui
URL:https://calenda-formation.labocleo.org/203842
DESCRIPTION:Cette rencontre\, qui souhaite approfondir le sillon de la journée d’études organisée en mars 2010 à l’EHESS\, ne se donne pas pour objectif d’évaluer la qualité historiographique des écrits de Michel Foucault mais de mettre en lumière l’usage que les … @plus_info https://calenda-formation.labocleo.org/203842
LOCATION:Aix-en-Provence
END:VEVENT
END:VCALENDAR
