BEGIN:VCALENDAR
VERSION:2.0
PRODID:-//https://calenda-formation.labocleo.org
X-WR-CALNAME:Calenda
X-WR-TIMEZONE:Europe/Paris
CALSCALE:GREGORIAN
X-WR-CALDESC:O calendário de letras e de ciências sociais e humanas
METHOD:PUBLISH
BEGIN:VEVENT
DTSTART;VALUE=DATE:20110515
DTEND;VALUE=DATE:20110516
UID:203859-20110515@calenda.revues.org
SUMMARY:Communication et journalisme : nouvelles frontières\, nouvelles interdépendances ?
URL:https://calenda-formation.labocleo.org/203859
DESCRIPTION:L’enjeu de ce colloque est de favoriser les échanges entre des intervenants issus d’une diversité de disciplines (sociologie\, sciences de l’information et de la communication\, science politique\, histoire\, philosophie\, etc.)\, mais aussi d’origines géo… @plus_info https://calenda-formation.labocleo.org/203859
LOCATION:Guyancourt
END:VEVENT
END:VCALENDAR
