BEGIN:VCALENDAR
VERSION:2.0
PRODID:-//https://calenda-formation.labocleo.org
X-WR-CALNAME:Calenda
X-WR-TIMEZONE:Europe/Paris
CALSCALE:GREGORIAN
X-WR-CALDESC:The calendar for arts, humanities and social sciences
METHOD:PUBLISH
BEGIN:VEVENT
DTSTART;VALUE=DATE:20110608
DTEND;VALUE=DATE:20110609
UID:203860-20110608@calenda.revues.org
SUMMARY:Antique currency\, modern currency and currencies from elsewhere. Mixing and hybrids
URL:https://calenda-formation.labocleo.org/203860
DESCRIPTION:Quelles transformations se font jour dans les médiums et formes des échanges lorsque des sociétés aux pratiques différentes se rencontrent ? Et notamment lorsque des sociétés engagées dans une économie monétaire se confrontent à d’autres qui ne le so… @plus_info https://calenda-formation.labocleo.org/203860
LOCATION:Nanterre
END:VEVENT
BEGIN:VEVENT
DTSTART;VALUE=DATE:20110609
DTEND;VALUE=DATE:20110610
UID:203860-20110609@calenda.revues.org
SUMMARY:Antique currency\, modern currency and currencies from elsewhere. Mixing and hybrids
URL:https://calenda-formation.labocleo.org/203860
DESCRIPTION:Quelles transformations se font jour dans les médiums et formes des échanges lorsque des sociétés aux pratiques différentes se rencontrent ? Et notamment lorsque des sociétés engagées dans une économie monétaire se confrontent à d’autres qui ne le so… @plus_info https://calenda-formation.labocleo.org/203860
LOCATION:Nanterre
END:VEVENT
END:VCALENDAR
