BEGIN:VCALENDAR
VERSION:2.0
PRODID:-//https://calenda-formation.labocleo.org
X-WR-CALNAME:Calenda
X-WR-TIMEZONE:Europe/Paris
CALSCALE:GREGORIAN
X-WR-CALDESC:The calendar for arts, humanities and social sciences
METHOD:PUBLISH
BEGIN:VEVENT
DTSTART;VALUE=DATE:20110930
DTEND;VALUE=DATE:20111001
UID:203945-20110930@calenda.revues.org
SUMMARY:Gender\, Spatial Mobility Systems and Rural Development in the Global South
URL:https://calenda-formation.labocleo.org/203945
DESCRIPTION:Les systèmes de mobilités spatiales inscrivent fortement\, plus encore aujourd’hui qu’hier\, les sociétés\, économies et territoires ruraux des pays des Suds dans une géographie du mouvement. Historiquement\, les mobilités spatiales ont été une variable … @plus_info https://calenda-formation.labocleo.org/203945
LOCATION:Lyon
END:VEVENT
END:VCALENDAR
