BEGIN:VCALENDAR
VERSION:2.0
PRODID:-//https://calenda-formation.labocleo.org
X-WR-CALNAME:Calenda
X-WR-TIMEZONE:Europe/Paris
CALSCALE:GREGORIAN
X-WR-CALDESC:The calendar for arts, humanities and social sciences
METHOD:PUBLISH
BEGIN:VEVENT
DTSTART;VALUE=DATE:20110531
DTEND;VALUE=DATE:20110601
UID:203950-20110531@calenda.revues.org
SUMMARY:Water management\, the challenge of the 21st century 
URL:https://calenda-formation.labocleo.org/203950
DESCRIPTION:La Conférence internationale des formations d'ingénieurs et de techniciens d'expression française (CITEF)\, réseau institutionnel de l'Agence universitaire de la francophonie\, organise en collaboration avec l'Univeristé de Limoges et l'Office internat… @plus_info https://calenda-formation.labocleo.org/203950
LOCATION:Limoges
END:VEVENT
END:VCALENDAR
