BEGIN:VCALENDAR
VERSION:2.0
PRODID:-//https://calenda-formation.labocleo.org
X-WR-CALNAME:Calenda
X-WR-TIMEZONE:Europe/Paris
CALSCALE:GREGORIAN
X-WR-CALDESC:The calendar for arts, humanities and social sciences
METHOD:PUBLISH
BEGIN:VEVENT
DTSTART;VALUE=DATE:20110415
DTEND;VALUE=DATE:20110416
UID:203989-20110415@calenda.revues.org
SUMMARY:In-formation et communications organisationnelles : entre normes et formes
URL:https://calenda-formation.labocleo.org/203989
DESCRIPTION:Le programme de recherche « Sociogénèse des normes littéraires\, linguistiques\, communicationnelles et organisationnelles » du PREFics (EA3207)\, de l’université Européenne de Bretagne - Rennes 2\, organise un séminaire depuis 2008 sur le thème : « entr… @plus_info https://calenda-formation.labocleo.org/203989
LOCATION:Rennes
END:VEVENT
END:VCALENDAR
