BEGIN:VCALENDAR
VERSION:2.0
PRODID:-//https://calenda-formation.labocleo.org
X-WR-CALNAME:Calenda
X-WR-TIMEZONE:Europe/Paris
CALSCALE:GREGORIAN
X-WR-CALDESC:The calendar for arts, humanities and social sciences
METHOD:PUBLISH
BEGIN:VEVENT
DTSTART;VALUE=DATE:20110512
DTEND;VALUE=DATE:20110513
UID:203996-20110512@calenda.revues.org
SUMMARY:Scientific simplification\, the effects on researchers 
URL:https://calenda-formation.labocleo.org/203996
DESCRIPTION:Ces journées d’études proposent de questionner l’expérience des chercheurs impliqués dans des actions de vulgarisation scientifique\, notamment en confrontant cette expérience aux résultats des enquêtes menées sur le même sujet en France et en Europe.… @plus_info https://calenda-formation.labocleo.org/203996
LOCATION:Dijon
END:VEVENT
BEGIN:VEVENT
DTSTART;VALUE=DATE:20110513
DTEND;VALUE=DATE:20110514
UID:203996-20110513@calenda.revues.org
SUMMARY:Scientific simplification\, the effects on researchers 
URL:https://calenda-formation.labocleo.org/203996
DESCRIPTION:Ces journées d’études proposent de questionner l’expérience des chercheurs impliqués dans des actions de vulgarisation scientifique\, notamment en confrontant cette expérience aux résultats des enquêtes menées sur le même sujet en France et en Europe.… @plus_info https://calenda-formation.labocleo.org/203996
LOCATION:Dijon
END:VEVENT
END:VCALENDAR
