BEGIN:VCALENDAR
VERSION:2.0
PRODID:-//https://calenda-formation.labocleo.org
X-WR-CALNAME:Calenda
X-WR-TIMEZONE:Europe/Paris
CALSCALE:GREGORIAN
X-WR-CALDESC:The calendar for arts, humanities and social sciences
METHOD:PUBLISH
BEGIN:VEVENT
DTSTART;VALUE=DATE:20110430
DTEND;VALUE=DATE:20110501
UID:204060-20110430@calenda.revues.org
SUMMARY:Territorial Collectivities and the Appropriation of IT Technologies for Local Governance and Development
URL:https://calenda-formation.labocleo.org/204060
DESCRIPTION:Après les rencontres de Dakar 2006\, consacrées aux spécificités des sociétés africaines de l’information et de l’appropriation des TIC par les différents acteurs territoriaux\, celles de Bamako 2009 qui ont traité du rôle des ONG dans l’appropriation … @plus_info https://calenda-formation.labocleo.org/204060
LOCATION:Cotonou
END:VEVENT
END:VCALENDAR
