BEGIN:VCALENDAR
VERSION:2.0
PRODID:-//https://calenda-formation.labocleo.org
X-WR-CALNAME:Calenda
X-WR-TIMEZONE:Europe/Paris
CALSCALE:GREGORIAN
X-WR-CALDESC:Le calendrier des lettres et sciences humaines et sociales
METHOD:PUBLISH
BEGIN:VEVENT
DTSTART;VALUE=DATE:20110530
DTEND;VALUE=DATE:20110531
UID:204085-20110530@calenda.revues.org
SUMMARY:Identité\, culture et intimité. Les stéréotypes dans la vie quotidienne
URL:https://calenda-formation.labocleo.org/204085
DESCRIPTION:Bien que leur ancrage dans une essence atemporelle ait été définitivement remis en cause en sciences sociales\, les identités nationales\, ethniques\, raciales ou régionales demeurent des sujets d’une actualité brûlante dans plusieurs champs d’étude. Un… Weitere Informationen https://calenda-formation.labocleo.org/204085
LOCATION:
END:VEVENT
END:VCALENDAR
