BEGIN:VCALENDAR
VERSION:2.0
PRODID:-//https://calenda-formation.labocleo.org
X-WR-CALNAME:Calenda
X-WR-TIMEZONE:Europe/Paris
CALSCALE:GREGORIAN
X-WR-CALDESC:O calendário de letras e de ciências sociais e humanas
METHOD:PUBLISH
BEGIN:VEVENT
DTSTART;VALUE=DATE:20110715
DTEND;VALUE=DATE:20110716
UID:204087-20110715@calenda.revues.org
SUMMARY:Dites-le avec des fleurs !
URL:https://calenda-formation.labocleo.org/204087
DESCRIPTION:Le Journal des anthropologues désire consacrer un numéro multidisciplinaire à une réflexion sur la construction de l’objet de science en anthropologie dans le domaine de la « nature ». À l’heure où l’anthropologie partage les mêmes objets que d’autre… @plus_info https://calenda-formation.labocleo.org/204087
LOCATION:
END:VEVENT
END:VCALENDAR
