BEGIN:VCALENDAR
VERSION:2.0
PRODID:-//https://calenda-formation.labocleo.org
X-WR-CALNAME:Calenda
X-WR-TIMEZONE:Europe/Paris
CALSCALE:GREGORIAN
X-WR-CALDESC:The calendar for arts, humanities and social sciences
METHOD:PUBLISH
BEGIN:VEVENT
DTSTART;VALUE=DATE:20110518
DTEND;VALUE=DATE:20110519
UID:204101-20110518@calenda.revues.org
SUMMARY:Medieval Sicily. History\, iconography and archaeology
URL:https://calenda-formation.labocleo.org/204101
DESCRIPTION:Cette journée d'études abordera les différentes périodes de l'histoire de la Sicile - byzantine\, arabo-musulmane\, normande puis angevine - en croisant à la fois les approches (culturelles\, politiques\, artistiques) et les sources historiques (textuell… @plus_info https://calenda-formation.labocleo.org/204101
LOCATION:Saint-Étienne
END:VEVENT
END:VCALENDAR
