BEGIN:VCALENDAR
VERSION:2.0
PRODID:-//https://calenda-formation.labocleo.org
X-WR-CALNAME:Calenda
X-WR-TIMEZONE:Europe/Paris
CALSCALE:GREGORIAN
X-WR-CALDESC:Le calendrier des lettres et sciences humaines et sociales
METHOD:PUBLISH
BEGIN:VEVENT
DTSTART;VALUE=DATE:20110715
DTEND;VALUE=DATE:20110716
UID:204103-20110715@calenda.revues.org
SUMMARY:Révolution française et cultures populaires  dans le monde aujourd’hui : mythologies contemporaines
URL:https://calenda-formation.labocleo.org/204103
DESCRIPTION:« L’écriture révolutionnaire fut comme l’entéléchie de la légende révolutionnaire : elle intimidait et imposait une consécration civique du Sang ». Rares sont les événements historiques ayant\, au point de la Révolution française\, engendré leur propre… Weitere Informationen https://calenda-formation.labocleo.org/204103
LOCATION:Vizille
END:VEVENT
END:VCALENDAR
