BEGIN:VCALENDAR
VERSION:2.0
PRODID:-//https://calenda-formation.labocleo.org
X-WR-CALNAME:Calenda
X-WR-TIMEZONE:Europe/Paris
CALSCALE:GREGORIAN
X-WR-CALDESC:Le calendrier des lettres et sciences humaines et sociales
METHOD:PUBLISH
BEGIN:VEVENT
DTSTART;VALUE=DATE:20110615
DTEND;VALUE=DATE:20110616
UID:204113-20110615@calenda.revues.org
SUMMARY:Histoire industrielle : bilan et perspectives
URL:https://calenda-formation.labocleo.org/204113
DESCRIPTION:La quatrième édition des Assises de l'historiographie luxembourgeoise coïncidant avec le centenaire de l’usine sidérurgique d’Esch-Belval\, l’Université du Luxembourg a souhaité orienter son axe d’études en 2011 sur le thème de l’histoire industrielle… @plus_info https://calenda-formation.labocleo.org/204113
LOCATION:Luxembourg
END:VEVENT
END:VCALENDAR
