BEGIN:VCALENDAR
VERSION:2.0
PRODID:-//https://calenda-formation.labocleo.org
X-WR-CALNAME:Calenda
X-WR-TIMEZONE:Europe/Paris
CALSCALE:GREGORIAN
X-WR-CALDESC:Le calendrier des lettres et sciences humaines et sociales
METHOD:PUBLISH
BEGIN:VEVENT
DTSTART;VALUE=DATE:20110620
DTEND;VALUE=DATE:20110621
UID:204134-20110620@calenda.revues.org
SUMMARY:Dixième anniversaire des Journées Louis-André Gérard-Varet 
URL:https://calenda-formation.labocleo.org/204134
DESCRIPTION:Cette dixième édition des Journées Louis-André Gérard-Varet revêt un caractère exceptionnel. Elle se déroulera sur trois jours\, les 20\, 21 et 22 juin 2011. Fidèles à l'esprit de l'Institut d'économie publique (IDEP) et de son fondateur\, Louis-André G… @plus_info https://calenda-formation.labocleo.org/204134
LOCATION:Marseille
END:VEVENT
BEGIN:VEVENT
DTSTART;VALUE=DATE:20110621
DTEND;VALUE=DATE:20110622
UID:204134-20110621@calenda.revues.org
SUMMARY:Dixième anniversaire des Journées Louis-André Gérard-Varet 
URL:https://calenda-formation.labocleo.org/204134
DESCRIPTION:Cette dixième édition des Journées Louis-André Gérard-Varet revêt un caractère exceptionnel. Elle se déroulera sur trois jours\, les 20\, 21 et 22 juin 2011. Fidèles à l'esprit de l'Institut d'économie publique (IDEP) et de son fondateur\, Louis-André G… @plus_info https://calenda-formation.labocleo.org/204134
LOCATION:Marseille
END:VEVENT
BEGIN:VEVENT
DTSTART;VALUE=DATE:20110622
DTEND;VALUE=DATE:20110623
UID:204134-20110622@calenda.revues.org
SUMMARY:Dixième anniversaire des Journées Louis-André Gérard-Varet 
URL:https://calenda-formation.labocleo.org/204134
DESCRIPTION:Cette dixième édition des Journées Louis-André Gérard-Varet revêt un caractère exceptionnel. Elle se déroulera sur trois jours\, les 20\, 21 et 22 juin 2011. Fidèles à l'esprit de l'Institut d'économie publique (IDEP) et de son fondateur\, Louis-André G… @plus_info https://calenda-formation.labocleo.org/204134
LOCATION:Marseille
END:VEVENT
END:VCALENDAR
