BEGIN:VCALENDAR
VERSION:2.0
PRODID:-//https://calenda-formation.labocleo.org
X-WR-CALNAME:Calenda
X-WR-TIMEZONE:Europe/Paris
CALSCALE:GREGORIAN
X-WR-CALDESC:The calendar for arts, humanities and social sciences
METHOD:PUBLISH
BEGIN:VEVENT
DTSTART;VALUE=DATE:20110610
DTEND;VALUE=DATE:20110611
UID:204160-20110610@calenda.revues.org
SUMMARY:Civil mobilisations against politics
URL:https://calenda-formation.labocleo.org/204160
DESCRIPTION:Le présent ouvrage entend s’inspirer de la crise ivoirienne et des soulèvements observés dans le monde arabo musulman pour\, d’une part\, évaluer les trajectoires politiques de l’Afrique et du Moyen-Orient dans leurs rapports avec l’Occident et la comm… @plus_info https://calenda-formation.labocleo.org/204160
LOCATION:
END:VEVENT
END:VCALENDAR
