BEGIN:VCALENDAR
VERSION:2.0
PRODID:-//https://calenda-formation.labocleo.org
X-WR-CALNAME:Calenda
X-WR-TIMEZONE:Europe/Paris
CALSCALE:GREGORIAN
X-WR-CALDESC:Le calendrier des lettres et sciences humaines et sociales
METHOD:PUBLISH
BEGIN:VEVENT
DTSTART;VALUE=DATE:20110513
DTEND;VALUE=DATE:20110514
UID:204186-20110513@calenda.revues.org
SUMMARY:Communauté(s) : entre filiations et affiliations
URL:https://calenda-formation.labocleo.org/204186
DESCRIPTION:Le terme communauté\, en raison de sa polysémie\, de sa prolifique médiatisation mais également de ses usages constamment renouvelés\, constitue un réel objet d’interrogation sur un plan scientifique. Toutes les approches et définitions de ce concept au… @plus_info https://calenda-formation.labocleo.org/204186
LOCATION:Aix-en-Provence
END:VEVENT
END:VCALENDAR
