BEGIN:VCALENDAR
VERSION:2.0
PRODID:-//https://calenda-formation.labocleo.org
X-WR-CALNAME:Calenda
X-WR-TIMEZONE:Europe/Paris
CALSCALE:GREGORIAN
X-WR-CALDESC:Le calendrier des lettres et sciences humaines et sociales
METHOD:PUBLISH
BEGIN:VEVENT
DTSTART;VALUE=DATE:20110528
DTEND;VALUE=DATE:20110529
UID:204192-20110528@calenda.revues.org
SUMMARY:Histoire et littérature\, regards croisés : enseignement et épistémologie
URL:https://calenda-formation.labocleo.org/204192
DESCRIPTION:Ce colloque international qui se déroulera du 26 au 28 mai 2011 à l’ENS IFÉ de Lyon questionnera les relations entre histoire et littérature(s) et interrogera l'épistémologie et l'enseignement de deux disciplines connexes ou rivales parfois. Cette ma… Weitere Informationen https://calenda-formation.labocleo.org/204192
LOCATION:Lyon
END:VEVENT
BEGIN:VEVENT
DTSTART;VALUE=DATE:20110526
DTEND;VALUE=DATE:20110527
UID:204192-20110526@calenda.revues.org
SUMMARY:Histoire et littérature\, regards croisés : enseignement et épistémologie
URL:https://calenda-formation.labocleo.org/204192
DESCRIPTION:Ce colloque international qui se déroulera du 26 au 28 mai 2011 à l’ENS IFÉ de Lyon questionnera les relations entre histoire et littérature(s) et interrogera l'épistémologie et l'enseignement de deux disciplines connexes ou rivales parfois. Cette ma… Weitere Informationen https://calenda-formation.labocleo.org/204192
LOCATION:Lyon
END:VEVENT
BEGIN:VEVENT
DTSTART;VALUE=DATE:20110527
DTEND;VALUE=DATE:20110528
UID:204192-20110527@calenda.revues.org
SUMMARY:Histoire et littérature\, regards croisés : enseignement et épistémologie
URL:https://calenda-formation.labocleo.org/204192
DESCRIPTION:Ce colloque international qui se déroulera du 26 au 28 mai 2011 à l’ENS IFÉ de Lyon questionnera les relations entre histoire et littérature(s) et interrogera l'épistémologie et l'enseignement de deux disciplines connexes ou rivales parfois. Cette ma… Weitere Informationen https://calenda-formation.labocleo.org/204192
LOCATION:Lyon
END:VEVENT
END:VCALENDAR
