BEGIN:VCALENDAR
VERSION:2.0
PRODID:-//https://calenda-formation.labocleo.org
X-WR-CALNAME:Calenda
X-WR-TIMEZONE:Europe/Paris
CALSCALE:GREGORIAN
X-WR-CALDESC:The calendar for arts, humanities and social sciences
METHOD:PUBLISH
BEGIN:VEVENT
DTSTART;VALUE=DATE:20110517
DTEND;VALUE=DATE:20110518
UID:204193-20110517@calenda.revues.org
SUMMARY:Voyages d’artistes à l’époque contemporaine : continuités et ruptures
URL:https://calenda-formation.labocleo.org/204193
DESCRIPTION:La mobilité a souvent caractérisé les artistes : qu’il s’agisse de se former auprès de maîtres\, de s’approcher d’un mécène ou de découvrir des œuvres anciennes et contemporaines\, le voyage a toujours été un incontournable de toute carrière artistique… @plus_info https://calenda-formation.labocleo.org/204193
LOCATION:Strasbourg
END:VEVENT
END:VCALENDAR
