BEGIN:VCALENDAR
VERSION:2.0
PRODID:-//https://calenda-formation.labocleo.org
X-WR-CALNAME:Calenda
X-WR-TIMEZONE:Europe/Paris
CALSCALE:GREGORIAN
X-WR-CALDESC:The calendar for arts, humanities and social sciences
METHOD:PUBLISH
BEGIN:VEVENT
DTSTART;VALUE=DATE:20110516
DTEND;VALUE=DATE:20110517
UID:204212-20110516@calenda.revues.org
SUMMARY:Le tableau et la scène. Peinture et mise en scène du répertoire héroïque autour dʼAntoine et Charles Coypel
URL:https://calenda-formation.labocleo.org/204212
DESCRIPTION:Journées d’étude organisées par Adeline Collange-Perugi (musée des Beaux-Arts de Nantes)\, Marie-Pauline Martin et Julie Ramos (INHA)\, Jérôme de La Gorce et Jean-Noël Laurenti(ACRAS) et le Printemps des arts.… @plus_info https://calenda-formation.labocleo.org/204212
LOCATION:Nantes
END:VEVENT
BEGIN:VEVENT
DTSTART;VALUE=DATE:20110517
DTEND;VALUE=DATE:20110518
UID:204212-20110517@calenda.revues.org
SUMMARY:Le tableau et la scène. Peinture et mise en scène du répertoire héroïque autour dʼAntoine et Charles Coypel
URL:https://calenda-formation.labocleo.org/204212
DESCRIPTION:Journées d’étude organisées par Adeline Collange-Perugi (musée des Beaux-Arts de Nantes)\, Marie-Pauline Martin et Julie Ramos (INHA)\, Jérôme de La Gorce et Jean-Noël Laurenti(ACRAS) et le Printemps des arts.… @plus_info https://calenda-formation.labocleo.org/204212
LOCATION:Nantes
END:VEVENT
END:VCALENDAR
