BEGIN:VCALENDAR
VERSION:2.0
PRODID:-//https://calenda-formation.labocleo.org
X-WR-CALNAME:Calenda
X-WR-TIMEZONE:Europe/Paris
CALSCALE:GREGORIAN
X-WR-CALDESC:Le calendrier des lettres et sciences humaines et sociales
METHOD:PUBLISH
BEGIN:VEVENT
DTSTART;VALUE=DATE:20110519
DTEND;VALUE=DATE:20110520
UID:204242-20110519@calenda.revues.org
SUMMARY:Le travail de la littérature. Usages du littéraire en philosophie
URL:https://calenda-formation.labocleo.org/204242
DESCRIPTION:Qu’est-ce que la littérature a à apporter à la philosophie\, à travers la spécificité de l’expérience (à la fois esthétique\, épistémologique et morale) qu’elle nous propose ?  Et en retour\, en quoi modifie-elle notre façon de faire de la philosophie ?… Weitere Informationen https://calenda-formation.labocleo.org/204242
LOCATION:Paris
END:VEVENT
BEGIN:VEVENT
DTSTART;VALUE=DATE:20110520
DTEND;VALUE=DATE:20110521
UID:204242-20110520@calenda.revues.org
SUMMARY:Le travail de la littérature. Usages du littéraire en philosophie
URL:https://calenda-formation.labocleo.org/204242
DESCRIPTION:Qu’est-ce que la littérature a à apporter à la philosophie\, à travers la spécificité de l’expérience (à la fois esthétique\, épistémologique et morale) qu’elle nous propose ?  Et en retour\, en quoi modifie-elle notre façon de faire de la philosophie ?… Weitere Informationen https://calenda-formation.labocleo.org/204242
LOCATION:Paris
END:VEVENT
END:VCALENDAR
