BEGIN:VCALENDAR
VERSION:2.0
PRODID:-//https://calenda-formation.labocleo.org
X-WR-CALNAME:Calenda
X-WR-TIMEZONE:Europe/Paris
CALSCALE:GREGORIAN
X-WR-CALDESC:Le calendrier des lettres et sciences humaines et sociales
METHOD:PUBLISH
BEGIN:VEVENT
DTSTART;VALUE=DATE:20110528
DTEND;VALUE=DATE:20110529
UID:204243-20110528@calenda.revues.org
SUMMARY:Les femmes de l'Ancien Régime dans la littérature jeunesse contemporaine
URL:https://calenda-formation.labocleo.org/204243
DESCRIPTION:La SIEFAR organisera le samedi 28 mai une demi-journée d’études consacrée à la représentation des femmes de l’Ancien Régime dans la littérature jeunesse contemporaine.  Prenant acte de « la féminisation des livres pour ados » qui « a pris une ampleur… Más informaciones https://calenda-formation.labocleo.org/204243
LOCATION:París
END:VEVENT
END:VCALENDAR
