BEGIN:VCALENDAR
VERSION:2.0
PRODID:-//https://calenda-formation.labocleo.org
X-WR-CALNAME:Calenda
X-WR-TIMEZONE:Europe/Paris
CALSCALE:GREGORIAN
X-WR-CALDESC:O calendário de letras e de ciências sociais e humanas
METHOD:PUBLISH
BEGIN:VEVENT
DTSTART;VALUE=DATE:20110609
DTEND;VALUE=DATE:20110610
UID:204250-20110609@calenda.revues.org
SUMMARY:Symposium CorHaLi XXI. Les Trois Électre
URL:https://calenda-formation.labocleo.org/204250
DESCRIPTION:Les auteurs tragiques grecs qui ont composé les pièces où sont mis en scène leurs héros malheureux n’ont pas inventé les histoires\, les mythes\, pourtant associés à leur nom. Le public savait avant la pièce de Sophocle\, qu’Œdipe avait tué son père en … @plus_info https://calenda-formation.labocleo.org/204250
LOCATION:Villeneuve-d'Ascq
END:VEVENT
BEGIN:VEVENT
DTSTART;VALUE=DATE:20110610
DTEND;VALUE=DATE:20110611
UID:204250-20110610@calenda.revues.org
SUMMARY:Symposium CorHaLi XXI. Les Trois Électre
URL:https://calenda-formation.labocleo.org/204250
DESCRIPTION:Les auteurs tragiques grecs qui ont composé les pièces où sont mis en scène leurs héros malheureux n’ont pas inventé les histoires\, les mythes\, pourtant associés à leur nom. Le public savait avant la pièce de Sophocle\, qu’Œdipe avait tué son père en … @plus_info https://calenda-formation.labocleo.org/204250
LOCATION:Villeneuve-d'Ascq
END:VEVENT
BEGIN:VEVENT
DTSTART;VALUE=DATE:20110611
DTEND;VALUE=DATE:20110612
UID:204250-20110611@calenda.revues.org
SUMMARY:Symposium CorHaLi XXI. Les Trois Électre
URL:https://calenda-formation.labocleo.org/204250
DESCRIPTION:Les auteurs tragiques grecs qui ont composé les pièces où sont mis en scène leurs héros malheureux n’ont pas inventé les histoires\, les mythes\, pourtant associés à leur nom. Le public savait avant la pièce de Sophocle\, qu’Œdipe avait tué son père en … @plus_info https://calenda-formation.labocleo.org/204250
LOCATION:Villeneuve-d'Ascq
END:VEVENT
END:VCALENDAR
