BEGIN:VCALENDAR
VERSION:2.0
PRODID:-//https://calenda-formation.labocleo.org
X-WR-CALNAME:Calenda
X-WR-TIMEZONE:Europe/Paris
CALSCALE:GREGORIAN
X-WR-CALDESC:Le calendrier des lettres et sciences humaines et sociales
METHOD:PUBLISH
BEGIN:VEVENT
DTSTART;VALUE=DATE:20110531
DTEND;VALUE=DATE:20110601
UID:204310-20110531@calenda.revues.org
SUMMARY:Repenser les intégrations régionales dans les Amériques au prisme de la personne
URL:https://calenda-formation.labocleo.org/204310
DESCRIPTION:Le colloque tout en accordant une attention particulière aux problématiques juridiques\, économiques\, politiques\, propose de repenser la question des intégrations régionales dans les Amériques au prisme de la personne\, en étudiant les institutions et … Más informaciones https://calenda-formation.labocleo.org/204310
LOCATION:Rennes
END:VEVENT
END:VCALENDAR
