BEGIN:VCALENDAR
VERSION:2.0
PRODID:-//https://calenda-formation.labocleo.org
X-WR-CALNAME:Calenda
X-WR-TIMEZONE:Europe/Paris
CALSCALE:GREGORIAN
X-WR-CALDESC:Le calendrier des lettres et sciences humaines et sociales
METHOD:PUBLISH
BEGIN:VEVENT
DTSTART;VALUE=DATE:20110916
DTEND;VALUE=DATE:20110917
UID:204336-20110916@calenda.revues.org
SUMMARY:Appel à projet de recherche : le genre et la culture
URL:https://calenda-formation.labocleo.org/204336
DESCRIPTION:Le Département des études\, de la prospective et des statistiques (ministère de la Culture et de la Communication) lance un appel à projet de recherche sur « le genre et la culture ». De nombreux travaux quantitatifs  et qualitatifs  ont accrédité l’i… Weitere Informationen https://calenda-formation.labocleo.org/204336
LOCATION:
END:VEVENT
END:VCALENDAR
