BEGIN:VCALENDAR
VERSION:2.0
PRODID:-//https://calenda-formation.labocleo.org
X-WR-CALNAME:Calenda
X-WR-TIMEZONE:Europe/Paris
CALSCALE:GREGORIAN
X-WR-CALDESC:Le calendrier des lettres et sciences humaines et sociales
METHOD:PUBLISH
BEGIN:VEVENT
DTSTART;VALUE=DATE:20110520
DTEND;VALUE=DATE:20110521
UID:204399-20110520@calenda.revues.org
SUMMARY:Journées doctorales de philosophi​e de Paris 1
URL:https://calenda-formation.labocleo.org/204399
DESCRIPTION:Nous sommes heureux de vous annoncer la tenue des premières Journées doctorales de philosophie de Paris 1 vendredi 20 et samedi 21 mai\, en Sorbonne\, salle D618 et vendredi 27 et samedi 28 mai\, en Sorbonne\, amphithéâtre Bachelard.… Más informaciones https://calenda-formation.labocleo.org/204399
LOCATION:París
END:VEVENT
BEGIN:VEVENT
DTSTART;VALUE=DATE:20110521
DTEND;VALUE=DATE:20110522
UID:204399-20110521@calenda.revues.org
SUMMARY:Journées doctorales de philosophi​e de Paris 1
URL:https://calenda-formation.labocleo.org/204399
DESCRIPTION:Nous sommes heureux de vous annoncer la tenue des premières Journées doctorales de philosophie de Paris 1 vendredi 20 et samedi 21 mai\, en Sorbonne\, salle D618 et vendredi 27 et samedi 28 mai\, en Sorbonne\, amphithéâtre Bachelard.… Más informaciones https://calenda-formation.labocleo.org/204399
LOCATION:París
END:VEVENT
BEGIN:VEVENT
DTSTART;VALUE=DATE:20110527
DTEND;VALUE=DATE:20110528
UID:204399-20110527@calenda.revues.org
SUMMARY:Journées doctorales de philosophi​e de Paris 1
URL:https://calenda-formation.labocleo.org/204399
DESCRIPTION:Nous sommes heureux de vous annoncer la tenue des premières Journées doctorales de philosophie de Paris 1 vendredi 20 et samedi 21 mai\, en Sorbonne\, salle D618 et vendredi 27 et samedi 28 mai\, en Sorbonne\, amphithéâtre Bachelard.… Más informaciones https://calenda-formation.labocleo.org/204399
LOCATION:París
END:VEVENT
BEGIN:VEVENT
DTSTART;VALUE=DATE:20110528
DTEND;VALUE=DATE:20110529
UID:204399-20110528@calenda.revues.org
SUMMARY:Journées doctorales de philosophi​e de Paris 1
URL:https://calenda-formation.labocleo.org/204399
DESCRIPTION:Nous sommes heureux de vous annoncer la tenue des premières Journées doctorales de philosophie de Paris 1 vendredi 20 et samedi 21 mai\, en Sorbonne\, salle D618 et vendredi 27 et samedi 28 mai\, en Sorbonne\, amphithéâtre Bachelard.… Más informaciones https://calenda-formation.labocleo.org/204399
LOCATION:París
END:VEVENT
END:VCALENDAR
