BEGIN:VCALENDAR
VERSION:2.0
PRODID:-//https://calenda-formation.labocleo.org
X-WR-CALNAME:Calenda
X-WR-TIMEZONE:Europe/Paris
CALSCALE:GREGORIAN
X-WR-CALDESC:O calendário de letras e de ciências sociais e humanas
METHOD:PUBLISH
BEGIN:VEVENT
DTSTART;VALUE=DATE:20110606
DTEND;VALUE=DATE:20110607
UID:204423-20110606@calenda.revues.org
SUMMARY:Revisiter les relations entre justice étatique et médiation\, un enjeu de société
URL:https://calenda-formation.labocleo.org/204423
DESCRIPTION:À la suite d’un développement fulgurant dans les dernières trente années\, la médiation semble s’être définitivement installée en tant que méthode de règlement des conflits dans les domaines sociaux les plus divers (familial\, d’entreprise\, environneme… @plus_info https://calenda-formation.labocleo.org/204423
LOCATION:Paris
END:VEVENT
BEGIN:VEVENT
DTSTART;VALUE=DATE:20110607
DTEND;VALUE=DATE:20110608
UID:204423-20110607@calenda.revues.org
SUMMARY:Revisiter les relations entre justice étatique et médiation\, un enjeu de société
URL:https://calenda-formation.labocleo.org/204423
DESCRIPTION:À la suite d’un développement fulgurant dans les dernières trente années\, la médiation semble s’être définitivement installée en tant que méthode de règlement des conflits dans les domaines sociaux les plus divers (familial\, d’entreprise\, environneme… @plus_info https://calenda-formation.labocleo.org/204423
LOCATION:Paris
END:VEVENT
END:VCALENDAR
