BEGIN:VCALENDAR
VERSION:2.0
PRODID:-//https://calenda-formation.labocleo.org
X-WR-CALNAME:Calenda
X-WR-TIMEZONE:Europe/Paris
CALSCALE:GREGORIAN
X-WR-CALDESC:Le calendrier des lettres et sciences humaines et sociales
METHOD:PUBLISH
BEGIN:VEVENT
DTSTART;VALUE=DATE:20110615
DTEND;VALUE=DATE:20110616
UID:204458-20110615@calenda.revues.org
SUMMARY:Le mort dans la ville : pratiques\, contextes et impacts des inhumations intramuros en Anatolie
URL:https://calenda-formation.labocleo.org/204458
DESCRIPTION:L’Institut français d’études anatoliennes organise la deuxième édition des « rencontres d’archéologie de l’IFÉA » les 14-15 novembre 2011 à Istanbul. Le but de cette conférence et de provoquer une réflexion diachronique et interdisciplinaire sur la p… Weitere Informationen https://calenda-formation.labocleo.org/204458
LOCATION:Istanbul
END:VEVENT
END:VCALENDAR
