BEGIN:VCALENDAR
VERSION:2.0
PRODID:-//https://calenda-formation.labocleo.org
X-WR-CALNAME:Calenda
X-WR-TIMEZONE:Europe/Paris
CALSCALE:GREGORIAN
X-WR-CALDESC:Le calendrier des lettres et sciences humaines et sociales
METHOD:PUBLISH
BEGIN:VEVENT
DTSTART;VALUE=DATE:20110613
DTEND;VALUE=DATE:20110614
UID:204461-20110613@calenda.revues.org
SUMMARY:Appel à candidature pour un contrat doctoral en sociologie de la santé
URL:https://calenda-formation.labocleo.org/204461
DESCRIPTION:L'Université Reims Champagne Ardenne (URCA) propose un sujet de thèse sur le thème « professionnalisation et universitarisation de la formation infirmière : quels enjeux pour les cadres de santé ? » susceptible d'être financé à la rentrée 2011 sous l… @plus_info https://calenda-formation.labocleo.org/204461
LOCATION:
END:VEVENT
END:VCALENDAR
