BEGIN:VCALENDAR
VERSION:2.0
PRODID:-//https://calenda-formation.labocleo.org
X-WR-CALNAME:Calenda
X-WR-TIMEZONE:Europe/Paris
CALSCALE:GREGORIAN
X-WR-CALDESC:Le calendrier des lettres et sciences humaines et sociales
METHOD:PUBLISH
BEGIN:VEVENT
DTSTART;VALUE=DATE:20111024
DTEND;VALUE=DATE:20111025
UID:204485-20111024@calenda.revues.org
SUMMARY:Politiques territoriales\, intervention de l'État et pratiques sociales dans la restructuration de l'espace
URL:https://calenda-formation.labocleo.org/204485
DESCRIPTION:Proposé par le NUPEE (Noyau de recherches sur l'espace et l'économie)\, le deuxième colloque national espace et économie veut discuter des façons dont la mondialisation\, en changeant le mode de régulation et le régime d'accumulation de capital\, a affe… Más informaciones https://calenda-formation.labocleo.org/204485
LOCATION:Río de Janeiro
END:VEVENT
END:VCALENDAR
