BEGIN:VCALENDAR
VERSION:2.0
PRODID:-//https://calenda-formation.labocleo.org
X-WR-CALNAME:Calenda
X-WR-TIMEZONE:Europe/Paris
CALSCALE:GREGORIAN
X-WR-CALDESC:Le calendrier des lettres et sciences humaines et sociales
METHOD:PUBLISH
BEGIN:VEVENT
DTSTART;VALUE=DATE:20110915
DTEND;VALUE=DATE:20110916
UID:204487-20110915@calenda.revues.org
SUMMARY:La propriété\, au carrefour de l’anthropologie et du droit
URL:https://calenda-formation.labocleo.org/204487
DESCRIPTION:La Revue Émulations\, pour son dixième numéro\, s’ouvre à toutes les contributions abordant de près ou de loin le thème de la propriété. Ce numéro a pour vocation de dresser\, au moyen d’une approche interdisciplinaire\, un état des lieux de cet objet po… Más informaciones https://calenda-formation.labocleo.org/204487
LOCATION:
END:VEVENT
END:VCALENDAR
