BEGIN:VCALENDAR
VERSION:2.0
PRODID:-//https://calenda-formation.labocleo.org
X-WR-CALNAME:Calenda
X-WR-TIMEZONE:Europe/Paris
CALSCALE:GREGORIAN
X-WR-CALDESC:The calendar for arts, humanities and social sciences
METHOD:PUBLISH
BEGIN:VEVENT
DTSTART;VALUE=DATE:20110609
DTEND;VALUE=DATE:20110610
UID:204494-20110609@calenda.revues.org
SUMMARY:Corpus\, données\, modèles : approches qualitatives et quantitatives
URL:https://calenda-formation.labocleo.org/204494
DESCRIPTION:En rassemblant des réflexions sur différents positionnements conceptuels de l’analyse de corpus\, qu’ils soient qualitatifs ou quantitatifs\, nous souhaitons proposer une vision d’ensemble\, mais surtout une vision contrastée et pluridisciplinaire de la… @plus_info https://calenda-formation.labocleo.org/204494
LOCATION:Montpellier
END:VEVENT
BEGIN:VEVENT
DTSTART;VALUE=DATE:20110610
DTEND;VALUE=DATE:20110611
UID:204494-20110610@calenda.revues.org
SUMMARY:Corpus\, données\, modèles : approches qualitatives et quantitatives
URL:https://calenda-formation.labocleo.org/204494
DESCRIPTION:En rassemblant des réflexions sur différents positionnements conceptuels de l’analyse de corpus\, qu’ils soient qualitatifs ou quantitatifs\, nous souhaitons proposer une vision d’ensemble\, mais surtout une vision contrastée et pluridisciplinaire de la… @plus_info https://calenda-formation.labocleo.org/204494
LOCATION:Montpellier
END:VEVENT
END:VCALENDAR
