BEGIN:VCALENDAR
VERSION:2.0
PRODID:-//https://calenda-formation.labocleo.org
X-WR-CALNAME:Calenda
X-WR-TIMEZONE:Europe/Paris
CALSCALE:GREGORIAN
X-WR-CALDESC:The calendar for arts, humanities and social sciences
METHOD:PUBLISH
BEGIN:VEVENT
DTSTART;VALUE=DATE:20101215
DTEND;VALUE=DATE:20101216
UID:204554-20101215@calenda.revues.org
SUMMARY:The Portuguese and Spanish empires: comparisons\, global studies and historiographical dialogues\, 15th-19th centuries
URL:https://calenda-formation.labocleo.org/204554
DESCRIPTION:Au cours des dernières années\, l’histoire a centré son attention sur la comparaison et les études transnationales\, en tant qu’alternatives méthodologiques permettant de dépasser les différentes histoires nationales et les cadres d’analyses trop restr… @plus_info https://calenda-formation.labocleo.org/204554
LOCATION:
END:VEVENT
END:VCALENDAR
