BEGIN:VCALENDAR
VERSION:2.0
PRODID:-//https://calenda-formation.labocleo.org
X-WR-CALNAME:Calenda
X-WR-TIMEZONE:Europe/Paris
CALSCALE:GREGORIAN
X-WR-CALDESC:The calendar for arts, humanities and social sciences
METHOD:PUBLISH
BEGIN:VEVENT
DTSTART;VALUE=DATE:20110607
DTEND;VALUE=DATE:20110608
UID:204578-20110607@calenda.revues.org
SUMMARY:Intersecting Situations of Domination
URL:https://calenda-formation.labocleo.org/204578
DESCRIPTION:Ce colloque international vise à examiner et mettre en discussion les différentes catégories d’analyse\, outils théoriques et cadres conceptuels au moyen desquels est pensée aujourd’hui\, dans les sciences sociales et humaines\, l’articulation du genre … @plus_info https://calenda-formation.labocleo.org/204578
LOCATION:Saint-Denis\, Paris
END:VEVENT
BEGIN:VEVENT
DTSTART;VALUE=DATE:20110608
DTEND;VALUE=DATE:20110609
UID:204578-20110608@calenda.revues.org
SUMMARY:Intersecting Situations of Domination
URL:https://calenda-formation.labocleo.org/204578
DESCRIPTION:Ce colloque international vise à examiner et mettre en discussion les différentes catégories d’analyse\, outils théoriques et cadres conceptuels au moyen desquels est pensée aujourd’hui\, dans les sciences sociales et humaines\, l’articulation du genre … @plus_info https://calenda-formation.labocleo.org/204578
LOCATION:Saint-Denis\, Paris
END:VEVENT
END:VCALENDAR
