BEGIN:VCALENDAR
VERSION:2.0
PRODID:-//https://calenda-formation.labocleo.org
X-WR-CALNAME:Calenda
X-WR-TIMEZONE:Europe/Paris
CALSCALE:GREGORIAN
X-WR-CALDESC:Le calendrier des lettres et sciences humaines et sociales
METHOD:PUBLISH
BEGIN:VEVENT
DTSTART;VALUE=DATE:20110628
DTEND;VALUE=DATE:20110629
UID:204603-20110628@calenda.revues.org
SUMMARY:Apprentissage et sensorialité II
URL:https://calenda-formation.labocleo.org/204603
DESCRIPTION:Les journées de la recherche doctorale en ethnoscénologie contribuent aux travaux scientifiques des doctorants en favorisant leurs rencontres\, discussions et échanges avec des jeunes docteurs et des chercheurs confirmés dont les intérêts émergent ou … Weitere Informationen https://calenda-formation.labocleo.org/204603
LOCATION:La Plaine-Saint-Denis
END:VEVENT
BEGIN:VEVENT
DTSTART;VALUE=DATE:20110629
DTEND;VALUE=DATE:20110630
UID:204603-20110629@calenda.revues.org
SUMMARY:Apprentissage et sensorialité II
URL:https://calenda-formation.labocleo.org/204603
DESCRIPTION:Les journées de la recherche doctorale en ethnoscénologie contribuent aux travaux scientifiques des doctorants en favorisant leurs rencontres\, discussions et échanges avec des jeunes docteurs et des chercheurs confirmés dont les intérêts émergent ou … Weitere Informationen https://calenda-formation.labocleo.org/204603
LOCATION:La Plaine-Saint-Denis
END:VEVENT
BEGIN:VEVENT
DTSTART;VALUE=DATE:20110630
DTEND;VALUE=DATE:20110701
UID:204603-20110630@calenda.revues.org
SUMMARY:Apprentissage et sensorialité II
URL:https://calenda-formation.labocleo.org/204603
DESCRIPTION:Les journées de la recherche doctorale en ethnoscénologie contribuent aux travaux scientifiques des doctorants en favorisant leurs rencontres\, discussions et échanges avec des jeunes docteurs et des chercheurs confirmés dont les intérêts émergent ou … Weitere Informationen https://calenda-formation.labocleo.org/204603
LOCATION:La Plaine-Saint-Denis
END:VEVENT
END:VCALENDAR
