BEGIN:VCALENDAR
VERSION:2.0
PRODID:-//https://calenda-formation.labocleo.org
X-WR-CALNAME:Calenda
X-WR-TIMEZONE:Europe/Paris
CALSCALE:GREGORIAN
X-WR-CALDESC:Le calendrier des lettres et sciences humaines et sociales
METHOD:PUBLISH
BEGIN:VEVENT
DTSTART;VALUE=DATE:20110906
DTEND;VALUE=DATE:20110907
UID:204687-20110906@calenda.revues.org
SUMMARY:Lugares\, tiempos\, memórias. La antropología ibérica en el siglo XXI
URL:https://calenda-formation.labocleo.org/204687
DESCRIPTION:O XII Congresso de Antropologia da F.A.A.E.E. (Federación de Asociaciones de Antropología del Estado Español)\, intitulado Lugares\, tempos\, memorias. A antropología ibérica no seculo XXI\, terá lugar em Léon entre os dias 6 e 9 de setembro de 2011. … Weitere Informationen https://calenda-formation.labocleo.org/204687
LOCATION:
END:VEVENT
BEGIN:VEVENT
DTSTART;VALUE=DATE:20110907
DTEND;VALUE=DATE:20110908
UID:204687-20110907@calenda.revues.org
SUMMARY:Lugares\, tiempos\, memórias. La antropología ibérica en el siglo XXI
URL:https://calenda-formation.labocleo.org/204687
DESCRIPTION:O XII Congresso de Antropologia da F.A.A.E.E. (Federación de Asociaciones de Antropología del Estado Español)\, intitulado Lugares\, tempos\, memorias. A antropología ibérica no seculo XXI\, terá lugar em Léon entre os dias 6 e 9 de setembro de 2011. … Weitere Informationen https://calenda-formation.labocleo.org/204687
LOCATION:
END:VEVENT
BEGIN:VEVENT
DTSTART;VALUE=DATE:20110908
DTEND;VALUE=DATE:20110909
UID:204687-20110908@calenda.revues.org
SUMMARY:Lugares\, tiempos\, memórias. La antropología ibérica en el siglo XXI
URL:https://calenda-formation.labocleo.org/204687
DESCRIPTION:O XII Congresso de Antropologia da F.A.A.E.E. (Federación de Asociaciones de Antropología del Estado Español)\, intitulado Lugares\, tempos\, memorias. A antropología ibérica no seculo XXI\, terá lugar em Léon entre os dias 6 e 9 de setembro de 2011. … Weitere Informationen https://calenda-formation.labocleo.org/204687
LOCATION:
END:VEVENT
BEGIN:VEVENT
DTSTART;VALUE=DATE:20110909
DTEND;VALUE=DATE:20110910
UID:204687-20110909@calenda.revues.org
SUMMARY:Lugares\, tiempos\, memórias. La antropología ibérica en el siglo XXI
URL:https://calenda-formation.labocleo.org/204687
DESCRIPTION:O XII Congresso de Antropologia da F.A.A.E.E. (Federación de Asociaciones de Antropología del Estado Español)\, intitulado Lugares\, tempos\, memorias. A antropología ibérica no seculo XXI\, terá lugar em Léon entre os dias 6 e 9 de setembro de 2011. … Weitere Informationen https://calenda-formation.labocleo.org/204687
LOCATION:
END:VEVENT
END:VCALENDAR
