BEGIN:VCALENDAR
VERSION:2.0
PRODID:-//https://calenda-formation.labocleo.org
X-WR-CALNAME:Calenda
X-WR-TIMEZONE:Europe/Paris
CALSCALE:GREGORIAN
X-WR-CALDESC:O calendário de letras e de ciências sociais e humanas
METHOD:PUBLISH
BEGIN:VEVENT
DTSTART;VALUE=DATE:20111015
DTEND;VALUE=DATE:20111016
UID:204716-20111015@calenda.revues.org
SUMMARY:Les oiseaux chanteurs. Sciences\, pratiques sociales et représentations en Europe du Moyen Âge à nos jours
URL:https://calenda-formation.labocleo.org/204716
DESCRIPTION:« Les oiseaux chanteurs » est un projet pluridisciplinaire\, transversal et international initié et porté par l’UMR ARTeHIS 5594 de l’Université de Bourgogne et l’UMR Calhiste de l’Université de Valenciennes. Ce projet consiste à élargir une thématiqu… @plus_info https://calenda-formation.labocleo.org/204716
LOCATION:Glux-en-Glenne
END:VEVENT
END:VCALENDAR
