BEGIN:VCALENDAR
VERSION:2.0
PRODID:-//https://calenda-formation.labocleo.org
X-WR-CALNAME:Calenda
X-WR-TIMEZONE:Europe/Paris
CALSCALE:GREGORIAN
X-WR-CALDESC:Le calendrier des lettres et sciences humaines et sociales
METHOD:PUBLISH
BEGIN:VEVENT
DTSTART;VALUE=DATE:20110630
DTEND;VALUE=DATE:20110701
UID:204728-20110630@calenda.revues.org
SUMMARY:Les relations anthropozoologiques : nouvelles approches et jeunes chercheurs
URL:https://calenda-formation.labocleo.org/204728
DESCRIPTION:La troisième édition des journées d'étude « les relations anthropozoologiques : nouvelles approches et jeunes chercheurs. Panorama d’une socio-anthropologie des relations humain/animal » sont l’occasion d’une rencontre entre doctorants et jeunes cher… @plus_info https://calenda-formation.labocleo.org/204728
LOCATION:Lyon
END:VEVENT
BEGIN:VEVENT
DTSTART;VALUE=DATE:20110701
DTEND;VALUE=DATE:20110702
UID:204728-20110701@calenda.revues.org
SUMMARY:Les relations anthropozoologiques : nouvelles approches et jeunes chercheurs
URL:https://calenda-formation.labocleo.org/204728
DESCRIPTION:La troisième édition des journées d'étude « les relations anthropozoologiques : nouvelles approches et jeunes chercheurs. Panorama d’une socio-anthropologie des relations humain/animal » sont l’occasion d’une rencontre entre doctorants et jeunes cher… @plus_info https://calenda-formation.labocleo.org/204728
LOCATION:Lyon
END:VEVENT
END:VCALENDAR
