BEGIN:VCALENDAR
VERSION:2.0
PRODID:-//https://calenda-formation.labocleo.org
X-WR-CALNAME:Calenda
X-WR-TIMEZONE:Europe/Paris
CALSCALE:GREGORIAN
X-WR-CALDESC:Le calendrier des lettres et sciences humaines et sociales
METHOD:PUBLISH
BEGIN:VEVENT
DTSTART;VALUE=DATE:20110725
DTEND;VALUE=DATE:20110726
UID:204759-20110725@calenda.revues.org
SUMMARY:Épistémologie de la communication : bilan et perspectives
URL:https://calenda-formation.labocleo.org/204759
DESCRIPTION:La nature interdisciplinaire et la relative jeunesse des sciences de l’information et de la communication rendent difficile la délimitation de leur champ épistémologique. Cette journée d’étude vise donc à dresser un bilan\, mais aussi à proposer des p… @plus_info https://calenda-formation.labocleo.org/204759
LOCATION:Toulouse
END:VEVENT
END:VCALENDAR
