BEGIN:VCALENDAR
VERSION:2.0
PRODID:-//https://calenda-formation.labocleo.org
X-WR-CALNAME:Calenda
X-WR-TIMEZONE:Europe/Paris
CALSCALE:GREGORIAN
X-WR-CALDESC:Le calendrier des lettres et sciences humaines et sociales
METHOD:PUBLISH
BEGIN:VEVENT
DTSTART;VALUE=DATE:20110704
DTEND;VALUE=DATE:20110705
UID:204766-20110704@calenda.revues.org
SUMMARY:Désastres : savoir\, anthropologies\, éthique
URL:https://calenda-formation.labocleo.org/204766
DESCRIPTION:Ce colloque sera l’occasion de compléter le travail actuel du programme de l’UNESCO sur la prévention des catastrophes naturelles\, tout en étudiant les implications concrètes\, discursives et représentationnelles de l’imaginaire du désastre\, de la pré… Weitere Informationen https://calenda-formation.labocleo.org/204766
LOCATION:Paris
END:VEVENT
END:VCALENDAR
