BEGIN:VCALENDAR
VERSION:2.0
PRODID:-//https://calenda-formation.labocleo.org
X-WR-CALNAME:Calenda
X-WR-TIMEZONE:Europe/Paris
CALSCALE:GREGORIAN
X-WR-CALDESC:The calendar for arts, humanities and social sciences
METHOD:PUBLISH
BEGIN:VEVENT
DTSTART;VALUE=DATE:20110626
DTEND;VALUE=DATE:20110627
UID:204772-20110626@calenda.revues.org
SUMMARY:From villes thermales to sustainable health and wellness destinations
URL:https://calenda-formation.labocleo.org/204772
DESCRIPTION:O prazo de envio de resumos para a Conferência Internacional "De vilas termais para destinos de saúde e bem-estar sustentáveis” foi prolongado. Data limite de submissão de resumos (em português\, espanhol e inglês): Domingo\, 26 de Junho de 2011.… @plus_info https://calenda-formation.labocleo.org/204772
LOCATION:Chaves
END:VEVENT
END:VCALENDAR
