BEGIN:VCALENDAR
VERSION:2.0
PRODID:-//https://calenda-formation.labocleo.org
X-WR-CALNAME:Calenda
X-WR-TIMEZONE:Europe/Paris
CALSCALE:GREGORIAN
X-WR-CALDESC:Le calendrier des lettres et sciences humaines et sociales
METHOD:PUBLISH
BEGIN:VEVENT
DTSTART;VALUE=DATE:20110901
DTEND;VALUE=DATE:20110902
UID:204879-20110901@calenda.revues.org
SUMMARY:Bourses de thèse (contrats CIFRE) au laboratoire SENSE d'Orange Labs\, 2011
URL:https://calenda-formation.labocleo.org/204879
DESCRIPTION:Le laboratoire SENSE (Sociology and Economics of Networks and Services) d’Orange Lab propose\, pour la rentrée 2011\, quatre financements de thèse (contrats Cifre)\, sur les sujets suivants. Sujet 1 : arbitrages entre les dispositifs de jugement dans la… Weitere Informationen https://calenda-formation.labocleo.org/204879
LOCATION:Issy-les-Moulineaux
END:VEVENT
END:VCALENDAR
