BEGIN:VCALENDAR
VERSION:2.0
PRODID:-//https://calenda-formation.labocleo.org
X-WR-CALNAME:Calenda
X-WR-TIMEZONE:Europe/Paris
CALSCALE:GREGORIAN
X-WR-CALDESC:The calendar for arts, humanities and social sciences
METHOD:PUBLISH
BEGIN:VEVENT
DTSTART;VALUE=DATE:20110921
DTEND;VALUE=DATE:20110922
UID:204900-20110921@calenda.revues.org
SUMMARY:Falsehoods and fiction in history and geography (2011-2012)
URL:https://calenda-formation.labocleo.org/204900
DESCRIPTION:Tandis que la fiction relève d’un genre bien connu – une création originale – le faux peut revêtir plusieurs sens : un mensonge\, une contrefaçon ou un pastiche par exemple. Des « faux » sont devenus célèbres par leurs conséquences : de la fausse dona… @plus_info https://calenda-formation.labocleo.org/204900
LOCATION:Cergy
END:VEVENT
BEGIN:VEVENT
DTSTART;VALUE=DATE:20111005
DTEND;VALUE=DATE:20111006
UID:204900-20111005@calenda.revues.org
SUMMARY:Falsehoods and fiction in history and geography (2011-2012)
URL:https://calenda-formation.labocleo.org/204900
DESCRIPTION:Tandis que la fiction relève d’un genre bien connu – une création originale – le faux peut revêtir plusieurs sens : un mensonge\, une contrefaçon ou un pastiche par exemple. Des « faux » sont devenus célèbres par leurs conséquences : de la fausse dona… @plus_info https://calenda-formation.labocleo.org/204900
LOCATION:Cergy
END:VEVENT
BEGIN:VEVENT
DTSTART;VALUE=DATE:20111019
DTEND;VALUE=DATE:20111020
UID:204900-20111019@calenda.revues.org
SUMMARY:Falsehoods and fiction in history and geography (2011-2012)
URL:https://calenda-formation.labocleo.org/204900
DESCRIPTION:Tandis que la fiction relève d’un genre bien connu – une création originale – le faux peut revêtir plusieurs sens : un mensonge\, une contrefaçon ou un pastiche par exemple. Des « faux » sont devenus célèbres par leurs conséquences : de la fausse dona… @plus_info https://calenda-formation.labocleo.org/204900
LOCATION:Cergy
END:VEVENT
BEGIN:VEVENT
DTSTART;VALUE=DATE:20111102
DTEND;VALUE=DATE:20111103
UID:204900-20111102@calenda.revues.org
SUMMARY:Falsehoods and fiction in history and geography (2011-2012)
URL:https://calenda-formation.labocleo.org/204900
DESCRIPTION:Tandis que la fiction relève d’un genre bien connu – une création originale – le faux peut revêtir plusieurs sens : un mensonge\, une contrefaçon ou un pastiche par exemple. Des « faux » sont devenus célèbres par leurs conséquences : de la fausse dona… @plus_info https://calenda-formation.labocleo.org/204900
LOCATION:Cergy
END:VEVENT
BEGIN:VEVENT
DTSTART;VALUE=DATE:20111123
DTEND;VALUE=DATE:20111124
UID:204900-20111123@calenda.revues.org
SUMMARY:Falsehoods and fiction in history and geography (2011-2012)
URL:https://calenda-formation.labocleo.org/204900
DESCRIPTION:Tandis que la fiction relève d’un genre bien connu – une création originale – le faux peut revêtir plusieurs sens : un mensonge\, une contrefaçon ou un pastiche par exemple. Des « faux » sont devenus célèbres par leurs conséquences : de la fausse dona… @plus_info https://calenda-formation.labocleo.org/204900
LOCATION:Cergy
END:VEVENT
BEGIN:VEVENT
DTSTART;VALUE=DATE:20111214
DTEND;VALUE=DATE:20111215
UID:204900-20111214@calenda.revues.org
SUMMARY:Falsehoods and fiction in history and geography (2011-2012)
URL:https://calenda-formation.labocleo.org/204900
DESCRIPTION:Tandis que la fiction relève d’un genre bien connu – une création originale – le faux peut revêtir plusieurs sens : un mensonge\, une contrefaçon ou un pastiche par exemple. Des « faux » sont devenus célèbres par leurs conséquences : de la fausse dona… @plus_info https://calenda-formation.labocleo.org/204900
LOCATION:Cergy
END:VEVENT
BEGIN:VEVENT
DTSTART;VALUE=DATE:20120111
DTEND;VALUE=DATE:20120112
UID:204900-20120111@calenda.revues.org
SUMMARY:Falsehoods and fiction in history and geography (2011-2012)
URL:https://calenda-formation.labocleo.org/204900
DESCRIPTION:Tandis que la fiction relève d’un genre bien connu – une création originale – le faux peut revêtir plusieurs sens : un mensonge\, une contrefaçon ou un pastiche par exemple. Des « faux » sont devenus célèbres par leurs conséquences : de la fausse dona… @plus_info https://calenda-formation.labocleo.org/204900
LOCATION:Cergy
END:VEVENT
BEGIN:VEVENT
DTSTART;VALUE=DATE:20120118
DTEND;VALUE=DATE:20120119
UID:204900-20120118@calenda.revues.org
SUMMARY:Falsehoods and fiction in history and geography (2011-2012)
URL:https://calenda-formation.labocleo.org/204900
DESCRIPTION:Tandis que la fiction relève d’un genre bien connu – une création originale – le faux peut revêtir plusieurs sens : un mensonge\, une contrefaçon ou un pastiche par exemple. Des « faux » sont devenus célèbres par leurs conséquences : de la fausse dona… @plus_info https://calenda-formation.labocleo.org/204900
LOCATION:Cergy
END:VEVENT
BEGIN:VEVENT
DTSTART;VALUE=DATE:20120215
DTEND;VALUE=DATE:20120216
UID:204900-20120215@calenda.revues.org
SUMMARY:Falsehoods and fiction in history and geography (2011-2012)
URL:https://calenda-formation.labocleo.org/204900
DESCRIPTION:Tandis que la fiction relève d’un genre bien connu – une création originale – le faux peut revêtir plusieurs sens : un mensonge\, une contrefaçon ou un pastiche par exemple. Des « faux » sont devenus célèbres par leurs conséquences : de la fausse dona… @plus_info https://calenda-formation.labocleo.org/204900
LOCATION:Cergy
END:VEVENT
BEGIN:VEVENT
DTSTART;VALUE=DATE:20120314
DTEND;VALUE=DATE:20120315
UID:204900-20120314@calenda.revues.org
SUMMARY:Falsehoods and fiction in history and geography (2011-2012)
URL:https://calenda-formation.labocleo.org/204900
DESCRIPTION:Tandis que la fiction relève d’un genre bien connu – une création originale – le faux peut revêtir plusieurs sens : un mensonge\, une contrefaçon ou un pastiche par exemple. Des « faux » sont devenus célèbres par leurs conséquences : de la fausse dona… @plus_info https://calenda-formation.labocleo.org/204900
LOCATION:Cergy
END:VEVENT
END:VCALENDAR
