BEGIN:VCALENDAR
VERSION:2.0
PRODID:-//https://calenda-formation.labocleo.org
X-WR-CALNAME:Calenda
X-WR-TIMEZONE:Europe/Paris
CALSCALE:GREGORIAN
X-WR-CALDESC:The calendar for arts, humanities and social sciences
METHOD:PUBLISH
BEGIN:VEVENT
DTSTART;VALUE=DATE:20111030
DTEND;VALUE=DATE:20111030
UID:204978-20111030@calenda.revues.org
SUMMARY:Art / objet / bâti : création et développement durable
URL:https://calenda-formation.labocleo.org/204978
DESCRIPTION:Appel à participation au séminaire de recherche Art2Day. Art / objet / bâti : création et développement durable. Sous la direction de Stéphanie Katz. Chercheurs\, doctorants en arts\, arts appliqués\, architecture\, urbanisme et sciences humaines artiste… @plus_info https://calenda-formation.labocleo.org/204978
LOCATION:Paris
END:VEVENT
END:VCALENDAR
