BEGIN:VCALENDAR
VERSION:2.0
PRODID:-//https://calenda-formation.labocleo.org
X-WR-CALNAME:Calenda
X-WR-TIMEZONE:Europe/Paris
CALSCALE:GREGORIAN
X-WR-CALDESC:The calendar for arts, humanities and social sciences
METHOD:PUBLISH
BEGIN:VEVENT
DTSTART;VALUE=DATE:20111001
DTEND;VALUE=DATE:20111002
UID:204995-20111001@calenda.revues.org
SUMMARY:Death and monks in the Middle Ages
URL:https://calenda-formation.labocleo.org/204995
DESCRIPTION:Chaque année\, les Amis de la basilique romane de Paray-le-Monial propose un colloque scientifique. Cette année\, le thème retenu est le rapport des moines à la mort et son incidence dans l'architecture des monastères.  Neuf Intervenants traiteront de … @plus_info https://calenda-formation.labocleo.org/204995
LOCATION:Paray-le-Monial
END:VEVENT
BEGIN:VEVENT
DTSTART;VALUE=DATE:20111002
DTEND;VALUE=DATE:20111003
UID:204995-20111002@calenda.revues.org
SUMMARY:Death and monks in the Middle Ages
URL:https://calenda-formation.labocleo.org/204995
DESCRIPTION:Chaque année\, les Amis de la basilique romane de Paray-le-Monial propose un colloque scientifique. Cette année\, le thème retenu est le rapport des moines à la mort et son incidence dans l'architecture des monastères.  Neuf Intervenants traiteront de … @plus_info https://calenda-formation.labocleo.org/204995
LOCATION:Paray-le-Monial
END:VEVENT
END:VCALENDAR
