BEGIN:VCALENDAR
VERSION:2.0
PRODID:-//https://calenda-formation.labocleo.org
X-WR-CALNAME:Calenda
X-WR-TIMEZONE:Europe/Paris
CALSCALE:GREGORIAN
X-WR-CALDESC:Le calendrier des lettres et sciences humaines et sociales
METHOD:PUBLISH
BEGIN:VEVENT
DTSTART;VALUE=DATE:20110824
DTEND;VALUE=DATE:20110825
UID:204997-20110824@calenda.revues.org
SUMMARY:Politique agricole\, santé et profession
URL:https://calenda-formation.labocleo.org/204997
DESCRIPTION:Le colloque scientifique qui se tiendra à Besançon les 11 et 12 octobre 2011 a deux objectifs :  - restituer les résultats d’une recherche comparative portant sur les producteurs laitiers. Cette recherche pluridisciplinaire qui s’est déroulée de 2009… @plus_info https://calenda-formation.labocleo.org/204997
LOCATION:Besançon
END:VEVENT
END:VCALENDAR
