BEGIN:VCALENDAR
VERSION:2.0
PRODID:-//https://calenda-formation.labocleo.org
X-WR-CALNAME:Calenda
X-WR-TIMEZONE:Europe/Paris
CALSCALE:GREGORIAN
X-WR-CALDESC:Le calendrier des lettres et sciences humaines et sociales
METHOD:PUBLISH
BEGIN:VEVENT
DTSTART;VALUE=DATE:20111215
DTEND;VALUE=DATE:20111216
UID:205038-20111215@calenda.revues.org
SUMMARY:La ville algérienne\, cinquante ans après. Bilan et visions d’avenir
URL:https://calenda-formation.labocleo.org/205038
DESCRIPTION:L’année 2012 coïncide avec le cinquantième anniversaire d’indépendance de l’Algérie. Ce rendez-vous important constitue pour le laboratoire VUDD l’occasion idéale pour programmer un colloque ayant pour objet d’établir un bilan des politiques urbaines… Más informaciones https://calenda-formation.labocleo.org/205038
LOCATION:Argel
END:VEVENT
END:VCALENDAR
