BEGIN:VCALENDAR
VERSION:2.0
PRODID:-//https://calenda-formation.labocleo.org
X-WR-CALNAME:Calenda
X-WR-TIMEZONE:Europe/Paris
CALSCALE:GREGORIAN
X-WR-CALDESC:Le calendrier des lettres et sciences humaines et sociales
METHOD:PUBLISH
BEGIN:VEVENT
DTSTART;VALUE=DATE:20111130
DTEND;VALUE=DATE:20111201
UID:205098-20111130@calenda.revues.org
SUMMARY:Ciberdemocracia\, ciberativismo e cibercultura
URL:https://calenda-formation.labocleo.org/205098
DESCRIPTION:A revista Sociedade e Cultura está aceitando artigos para o seu volume 15\, número 1\, que terá um dossiê temático sobre ciberdemocracia\, ciberativismo e cibercultura. Serão aceites artigos escritos em português\, inglês ou espanhol\, até  30 de novembro… Más informaciones https://calenda-formation.labocleo.org/205098
LOCATION:Goiânia
END:VEVENT
END:VCALENDAR
