BEGIN:VCALENDAR
VERSION:2.0
PRODID:-//https://calenda-formation.labocleo.org
X-WR-CALNAME:Calenda
X-WR-TIMEZONE:Europe/Paris
CALSCALE:GREGORIAN
X-WR-CALDESC:Le calendrier des lettres et sciences humaines et sociales
METHOD:PUBLISH
BEGIN:VEVENT
DTSTART;VALUE=DATE:20111024
DTEND;VALUE=DATE:20111025
UID:205179-20111024@calenda.revues.org
SUMMARY:Outils informatiques pour les historiens (2011)
URL:https://calenda-formation.labocleo.org/205179
DESCRIPTION:Troisième édition d'une formation intensive aux outils informatiques pour les historiens\, ces trois journées de cours-ateliers-conférences proposent une initiation à des logiciels et ressources nécessaires à toute recherche. Les conférences\, ouvertes… Weitere Informationen https://calenda-formation.labocleo.org/205179
LOCATION:Paris
END:VEVENT
BEGIN:VEVENT
DTSTART;VALUE=DATE:20111025
DTEND;VALUE=DATE:20111026
UID:205179-20111025@calenda.revues.org
SUMMARY:Outils informatiques pour les historiens (2011)
URL:https://calenda-formation.labocleo.org/205179
DESCRIPTION:Troisième édition d'une formation intensive aux outils informatiques pour les historiens\, ces trois journées de cours-ateliers-conférences proposent une initiation à des logiciels et ressources nécessaires à toute recherche. Les conférences\, ouvertes… Weitere Informationen https://calenda-formation.labocleo.org/205179
LOCATION:Paris
END:VEVENT
BEGIN:VEVENT
DTSTART;VALUE=DATE:20111026
DTEND;VALUE=DATE:20111027
UID:205179-20111026@calenda.revues.org
SUMMARY:Outils informatiques pour les historiens (2011)
URL:https://calenda-formation.labocleo.org/205179
DESCRIPTION:Troisième édition d'une formation intensive aux outils informatiques pour les historiens\, ces trois journées de cours-ateliers-conférences proposent une initiation à des logiciels et ressources nécessaires à toute recherche. Les conférences\, ouvertes… Weitere Informationen https://calenda-formation.labocleo.org/205179
LOCATION:Paris
END:VEVENT
END:VCALENDAR
