BEGIN:VCALENDAR
VERSION:2.0
PRODID:-//https://calenda-formation.labocleo.org
X-WR-CALNAME:Calenda
X-WR-TIMEZONE:Europe/Paris
CALSCALE:GREGORIAN
X-WR-CALDESC:Le calendrier des lettres et sciences humaines et sociales
METHOD:PUBLISH
BEGIN:VEVENT
DTSTART;VALUE=DATE:20110924
DTEND;VALUE=DATE:20110925
UID:205201-20110924@calenda.revues.org
SUMMARY:Congrès annuel de l'Association pour le développement de l'histoire culturelle
URL:https://calenda-formation.labocleo.org/205201
DESCRIPTION:L'Association pour le développement de l'histoire culturelle (ADHC) organise le 24 septembre prochain à Paris son congrès annuel.… @plus_info https://calenda-formation.labocleo.org/205201
LOCATION:Paris
END:VEVENT
END:VCALENDAR
