BEGIN:VCALENDAR
VERSION:2.0
PRODID:-//https://calenda-formation.labocleo.org
X-WR-CALNAME:Calenda
X-WR-TIMEZONE:Europe/Paris
CALSCALE:GREGORIAN
X-WR-CALDESC:Le calendrier des lettres et sciences humaines et sociales
METHOD:PUBLISH
BEGIN:VEVENT
DTSTART;VALUE=DATE:20111129
DTEND;VALUE=DATE:20111130
UID:205267-20111129@calenda.revues.org
SUMMARY:Netherlandish culture of the sixteenth century
URL:https://calenda-formation.labocleo.org/205267
DESCRIPTION:Whereas much attention has been paid to the Burgundian Low Countries of the fifteenth century and the so-called Golden Age of the seventeenth\, the culture of the Netherlands in the century in between has long been neglected.  Yet the past two decades… Weitere Informationen https://calenda-formation.labocleo.org/205267
LOCATION:Toronto
END:VEVENT
END:VCALENDAR
